{"text_format":"1","workbook":"xlsx","n_sheets":3,"sheets":["記入","ID","集約"],"not_rendered":{"charts":0,"images":0,"macros":1,"external_links":0,"defined_names":2,"comments":0,"pivot_tables":0},"unopened":[],"bounds":{"document_bytes":16777216,"sheet_cells":100000,"rows_first":2000,"rows_last":500,"rows_between":2000,"halvings":0,"cell_chars":16384,"cell_head_chars":4096},"cells_cut":0,"cells_raw":0,"read":"whole","date_system":"1900"}

{"sheet":"記入","index":0,"n_rows":47,"n_cols":23,"rows_kept":47,"cut":false,"hidden":false,"merged":[[7,2,11,2],[3,4,3,8],[4,2,4,16],[9,4,9,16],[11,4,11,16],[33,15,33,16],[34,15,34,16],[32,15,32,16],[31,15,31,16],[7,4,7,16],[13,5,13,8],[18,3,18,4],[18,6,18,10],[13,3,13,4],[16,15,16,16],[16,3,16,10],[17,6,17,10],[17,3,17,4],[17,15,18,16],[20,15,21,16],[20,9,20,14],[37,15,37,16],[38,15,38,16],[39,15,39,16],[40,15,40,16],[35,15,35,16],[43,3,43,16],[2,1,2,17],[36,15,36,16],[22,15,22,16],[23,15,23,16],[24,15,24,16],[25,15,25,16],[26,15,26,16],[27,15,27,16],[28,15,28,16],[29,15,29,16],[30,15,30,16],[20,2,41,2],[41,15,41,16],[16,12,16,14],[17,12,18,14],[20,7,20,8],[20,3,21,3],[20,4,21,4],[20,5,21,5],[20,6,21,6]]}
[]
[]
[null,"令和６年度アートフェスタ－愛知県高等学校総合文化祭－係り生徒報告書"]
[]
[null,null,"この報告に基づき、係り生徒の委嘱をしますので、専門部、各学校で相談の上、本人の内諾を得て報告してください。"]
[]
[]
[null,null,"提出方法","①","学校名を選択した後、必要事項を記入してください。"]
[]
[null,null,null,"②","ファイル名を「高文連ID」+｢学校名略称.xlsm」としてください。（例：「101旭丘.xlsm｣)"]
[]
[null,null,null,"③","メール添付にて事務局までご提出ください（件名を「係り生徒報告書」としてください。）"]
[]
[null,null,"提出先：","愛知高文連事務局：",null,"aikoubun@aroma.ocn.ne.jp",null,null,null,null,null,null,null,null,null,null,"締切：令和6年6月14日（金）  "]
[]
[]
[null,null,"学校名",null,null,null,null,null,null,null,null,null,"係名\n(リストから\n選択)",null,null,null,null,null,null,"令和５年度メモ：集計方法の変更に伴い、学校名と係り名の集約を略称に変更"]
[null,null,"高文連ID",{"$f":"IF(D17=\"\",\"(未入力)\",VLOOKUP(D17,ID!A1:B300,2,FALSE))","v":"(未入力)"},null,"TEL:",{"$f":"IF(D17=\"\",\"(未入力)\",VLOOKUP(D17,ID!A1:C300,3,FALSE))","v":"(未入力)"},null,null,null,null,null,"専門部名\n(リストから\n選択)"]
[null,null,"記載責任者\n職名",null,null,"記載責任者\n氏名"]
[]
[null,null,"派遣生徒・\n派遣教員\n氏名","学年\n職名","姓","名","Ｔシャツ\nサイズ","8月",null,null,null,null,null,null,null,"備考",null,null,null,null,null,"吹奏楽","1年"]
[null,null,null,null,null,null,null,"19日(月)","20日(火）","21日(水)","22日(木)","23日(金)","24日(土)","25日(日)","9日\n(祝)",null,null,null,null,"接遇(受付)","受付","合唱","2年"]
[null,null,null,null,null,null,null,null,null,null,null,null,null,null,null,null,null,null,null,"接遇(受付)小ホール","受付小","器楽・管弦楽","3年"]
[null,null,null,null,null,null,null,null,null,null,null,null,null,null,null,null,null,null,null,"接遇(会場)","会場","日本音楽","4年"]
[null,null,null,null,null,null,null,null,null,null,null,null,null,null,null,null,null,null,null,"司会","司会","吟詠","教諭"]
[null,null,null,null,null,null,null,null,null,null,null,null,null,null,null,null,null,null,null,"記録(写真)","写真","郷土芸能","再任用\n教諭"]
[null,null,null,null,null,null,null,null,null,null,null,null,null,null,null,null,null,null,null,"記録(ビデオ)","ビデオ","演劇","実習教師"]
[null,null,null,null,null,null,null,null,null,null,null,null,null,null,null,null,null,null,null,"舞台(出演準備)","出演","放送","任期付\n任用教諭"]
[null,null,null,null,null,null,null,null,null,null,null,null,null,null,null,null,null,null,null,"舞台(舞台進行)","進行","囲碁","任期付\n任用講師"]
[null,null,null,null,null,null,null,null,null,null,null,null,null,null,null,null,null,null,null,"小ホール(出演準備・舞台進行・会場）","出演小","将棋","臨時的\n任用教諭"]
[null,null,null,null,null,null,null,null,null,null,null,null,null,null,null,null,null,null,null,"講演・交流(文芸)","講演","美術・工芸"]
[null,null,null,null,null,null,null,null,null,null,null,null,null,null,null,null,null,null,null,"接遇(接待)","接待","書道"]
[null,null,null,null,null,null,null,null,null,null,null,null,null,null,null,null,null,null,null,"展示(統括)","展_総括","写真","(以下、参考）"]
[null,null,null,null,null,null,null,null,null,null,null,null,null,null,null,null,null,null,null,"展示(受付)","展_受付","自然科学","臨時的任用職員"]
[null,null,null,null,null,null,null,null,null,null,null,null,null,null,null,null,null,null,null,"展示(搬入・搬出)","展_搬入","文芸","教授"]
[null,null,null,null,null,null,null,null,null,null,null,null,null,null,null,null,null,null,null,null,null,"ボランティア","教頭"]
[null,null,null,null,null,null,null,null,null,null,null,null,null,null,null,null,null,null,null,null,null,"軽音楽","センター長"]
[null,null,null,null,null,null,null,null,null,null,null,null,null,null,null,null,null,null,null,null,null,"競技かるた","理事"]
[null,null,null,null,null,null,null,null,null,null,null,null,null,null,null,null,null,null,null,null,null,"理事会長校","養護教諭"]
[null,null,null,null,null,null,null,null,null,null,null,null,null,null,null,null,null,null,null,null,null,null,"臨任講師"]
[null,null,null,null,null,null,null,null,null,null,null,null,null,null,null,null,null,null,null,null,null,null,"臨時的任用実習教員"]
[null,null,null,null,null,null,null,null,null,null,null,null,null,null,null,null,null,null,null,null,null,null,"期限を付さない常勤講師"]
[]
[null,null,"備考\n連絡欄"]
[null,null,"※入力にあたり不都合があれば高文連事務局までご連絡ください(052-446-7634)。",null,null,null,null,null,null,null,null,null,null,null,null,null,null,null,null,"舞台",null,"展示"]
[null,null,{"$f":"IF(COUNTIF(P17,\"*展示*\")=1,V46,T46)","v":"※スタッフＴシャツは係り生徒・生徒実行委員用に無償で配付します。サイズ表記は標準的な男性サイズでご記入ください。"},null,null,null,null,null,null,null,null,null,null,null,null,null,null,null,null,"※スタッフＴシャツは係り生徒・生徒実行委員用に無償で配付します。サイズ表記は標準的な男性サイズでご記入ください。",null,"※展示部門で一人の生徒が同日に「受付」と「搬入・搬出」を兼ねる場合は、備考欄にその旨を記載してください。"]
[null,null,{"$f":"IF(COUNTIF(P17,\"*展示*\")=1,\"\",T47)","v":"　　(展示、講演・交流の係り生徒はＴシャツを着用しません。サイズは空欄のままご提出ください。）"},null,null,null,null,null,null,null,null,null,null,null,null,null,null,null,null,"　　(展示、講演・交流の係り生徒はＴシャツを着用しません。サイズは空欄のままご提出ください。）"]

{"sheet":"ID","index":1,"n_rows":278,"n_cols":6,"rows_kept":278,"cut":false,"hidden":false,"merged":[]}
["学校名","ID","電話番号","略称","制作メモ","略称"]
["愛知県立旭丘高等学校",101,"052-721-5351","旭丘",null,"旭丘"]
["愛知県立明和高等学校",102,"052-961-2551","明和","セルの書式設定で「表示しない」になっていると、検索対象とならない","明和"]
["愛知県立明和高等学校(定時制)",103,"052-961-2551","明和〔定〕","　当然のことのように思えるが、この場合でもセルには表示されることがあるため、混乱のもとになる","明和〔定〕"]
["愛知県立千種高等学校",104,"052-771-2121","千種",null,"千種"]
["愛知県立守山高等学校",105,"052-736-3500","守山",null,"守山"]
["愛知県立名古屋西高等学校",106,"052-524-5175","名古屋西",null,"名古屋西"]
["愛知県立名古屋西高等学校(定時制)",107,"052-522-2451","名古屋西〔定〕",null,"名古屋西〔定〕"]
["愛知県立城北つばさ高等学校(昼間部)",108,"052-911-4421","城北つばさ〔昼間〕",null,"城北つばさ〔昼間〕"]
["愛知県立城北つばさ高等学校(夜間部)",109,"052-911-4421","城北つばさ〔夜間〕",null,"城北つばさ〔夜間〕"]
["愛知県立旭陵高等学校",110,"052-721-5371","旭陵",null,"旭陵"]
["愛知県立緑丘高等学校",111,"052-791-8226","緑丘",null,"緑丘"]
["愛知県立愛知総合工科高等学校",112,"052-788-2020","愛知総合工科",null,"愛知総合工科"]
["愛知県立愛知商業高等学校",113,"052-935-3480","愛知商業",null,"愛知商業"]
["愛知県立瀬戸高等学校",114,"0561-82-7710","瀬戸",null,"瀬戸"]
["愛知県立瀬戸西高等学校",115,"0561-84-7400","瀬戸西",null,"瀬戸西"]
["愛知県立瀬戸北総合高等学校",116,"0561-48-1500","瀬戸北総合",null,"瀬戸北総合"]
["愛知県立瀬戸工科高等学校",117,"0561-82-2003","瀬戸工科",null,"瀬戸工科"]
["愛知県立瀬戸工科高等学校(定時制)",118,"0561-82-2003","瀬戸工科〔定〕",null,"瀬戸工科〔定〕"]
["愛知県立春日井高等学校",119,"0568-81-2251","春日井",null,"春日井"]
["愛知県立春日井高等学校(定時制)",120,"0568-81-2251","春日井〔定〕",null,"春日井〔定〕"]
["愛知県立春日井西高等学校",121,"0568-32-9631","春日井西",null,"春日井西"]
["愛知県立春日井東高等学校",122,"0568-88-4801","春日井東",null,"春日井東"]
["愛知県立高蔵寺高等学校",123,"0568-92-9000","高蔵寺",null,"高蔵寺"]
["愛知県立春日井南高等学校",124,"0568-32-7688","春日井南",null,"春日井南"]
["愛知県立春日井工科高等学校",125,"0568-84-1115","春日井工科",null,"春日井工科"]
["愛知県立春日井泉高等学校",126,"0568-81-1885","春日井泉",null,"春日井泉"]
["愛知県立旭野高等学校",127,"0561-53-5200","旭野",null,"旭野"]
["愛知県立長久手高等学校",128,"0561-62-0016","長久手",null,"長久手"]
["名古屋市立菊里高等学校",129,"052-781-0445","菊里",null,"菊里"]
["名古屋市立北高等学校",130,"052-901-0338","北",null,"北"]
["名古屋市立山田高等学校",131,"052-501-7800","山田",null,"山田"]
["名古屋市立名東高等学校",132,"052-703-3313","名東",null,"名東"]
["名古屋市立西陵高等学校",133,"052-521-5551","西陵",null,"西陵"]
["名古屋市立名古屋商業高等学校",134,"052-751-6111","名古屋商業",null,"名古屋商業"]
["名古屋市立工芸高等学校",135,"052-931-7541","市工芸",null,"市工芸"]
["名古屋大学教育学部附属高等学校",136,"052-789-2680","名大附属",null,"名大附属"]
["愛知工業大学名電高等学校",137,"052-721-0311","愛工大名電",null,"愛工大名電"]
["愛知高等学校",138,"052-721-1521","愛知",null,"愛知"]
["栄徳高等学校",139,"0561-62-5000","栄徳",null,"栄徳"]
["菊華高等学校",140,"052-791-8261","菊華",null,"菊華"]
["金城学院高等学校",141,"052-931-6236","金城学院",null,"金城学院"]
["至学館高等学校",142,"052-723-0851","至学館",null,"至学館"]
["星槎国際高等学校名古屋学習センター",143,"052-212-8211","星槎",null,"星槎"]
["聖霊高等学校",144,"0561-21-3121","聖霊",null,"聖霊"]
["中部大学春日丘高等学校",145,"0568-51-1131","春日丘",null,"春日丘"]
["東海高等学校",146,"052-936-5112","東海",null,"東海"]
["名古屋高等学校",147,"052-721-5271","名古屋",null,"名古屋"]
["名古屋経済大学市邨高等学校",148,"052-721-0161","市邨",null,"市邨"]
["愛知県立瑞陵高等学校",201,"052-851-7141","瑞陵",null,"瑞陵"]
["愛知県立惟信高等学校",202,"052-382-1355","惟信",null,"惟信"]
["愛知県立松蔭高等学校",203,"052-481-9471","松蔭",null,"松蔭"]
["愛知県立昭和高等学校",204,"052-831-6326","昭和",null,"昭和"]
["愛知県立熱田高等学校",205,"052-652-5858","熱田",null,"熱田"]
["愛知県立熱田高等学校(定時制)",206,"052-652-5858","熱田〔定〕",null,"熱田〔定〕"]
["愛知県立中村高等学校",207,"052-411-7760","中村",null,"中村"]
["愛知県立南陽高等学校",208,"052-301-1973","南陽",null,"南陽"]
["愛知県立鳴海高等学校",209,"052-623-3001","鳴海",null,"鳴海"]
["愛知県立天白高等学校",210,"052-801-1145","天白",null,"天白"]
["愛知県立名古屋南高等学校",211,"052-613-0001","名古屋南",null,"名古屋南"]
["愛知県立名古屋工科高等学校",212,"052-822-0242","名古屋工科",null,"名古屋工科"]
["愛知県立名古屋工科高等学校(定時制)",213,"052-822-0242","名古屋工科〔定〕",null,"名古屋工科〔定〕"]
["愛知県立中川青和高等学校",214,"052-361-7457","中川青和",null,"中川青和"]
["愛知県立豊明高等学校",215,"0562-93-1166","豊明",null,"豊明"]
["愛知県立日進高等学校",216,"0561-73-6221","日進",null,"日進"]
["愛知県立日進西高等学校",217,"052-804-2131","日進西",null,"日進西"]
["愛知県立東郷高等学校",218,"0561-39-1515","東郷",null,"東郷"]
["名古屋市立向陽高等学校",219,"052-841-7138","向陽",null,"向陽"]
["名古屋市立桜台高等学校",220,"052-821-0186","桜台",null,"桜台"]
["名古屋市立緑高等学校",221,"052-895-0461","緑",null,"緑"]
["名古屋市立富田高等学校",222,"052-301-1975","富田",null,"富田"]
["名古屋市立若宮商業高等学校",223,"052-891-2176","若宮商業",null,"若宮商業"]
["名古屋市立工業高等学校",224,"052-361-3116","市工業",null,"市工業"]
["名古屋市立中央高等学校(夜間定時制)",225,"052-241-6538","中央〔夜定〕",null,"中央〔夜定〕"]
["名古屋市立中央高等学校(昼間定時制)",226,"052-241-6538","中央〔昼定〕",null,"中央〔昼定〕"]
["愛知みずほ大学瑞穂高等学校",227,"052-882-1811","瑞穂",null,"瑞穂"]
["桜花学園高等学校",228,"052-741-1221","桜花学園",null,"桜花学園"]
["大同大学大同高等学校",229,"052-611-0511","大同",null,"大同"]
["名古屋国際高等学校",230,"052-853-5151","名古屋国際",null,"名古屋国際"]
["名古屋女子大学高等学校",231,"052-841-8181","名女大",null,"名女大"]
["名古屋たちばな高等学校",232,"052-322-1911","名古屋たちばな",null,"名古屋たちばな"]
["南山高等学校男子部",233,"052-831-6455","南山男子",null,"南山男子"]
["南山高等学校女子部",234,"052-831-0704","南山女子",null,"南山女子"]
["愛知県立犬山高等学校",301,"0568-61-0236","犬山",null,"犬山"]
["愛知県立犬山高等学校(定時制)",302,"0568-58-3239","犬山〔定〕",null,"犬山〔定〕"]
["愛知県立犬山総合高等学校",303,"0568-67-5211","犬山総合",null,"犬山総合"]
["愛知県立尾北高等学校",304,"0587-56-3038","尾北",null,"尾北"]
["愛知県立江南高等学校",305,"0587-56-3511","江南",null,"江南"]
["愛知県立古知野高等学校",306,"0587-56-2508","古知野",null,"古知野"]
["愛知県立古知野高等学校(定時制)",307,"0587-56-2508","古知野〔定〕",null,"古知野〔定〕"]
["愛知県立小牧高等学校",308,"0568-77-1231","小牧",null,"小牧"]
["愛知県立小牧高等学校(定時制)",309,"0568-77-1231","小牧〔定〕",null,"小牧〔定〕"]
["愛知県立小牧南高等学校",310,"0568-73-1911","小牧南",null,"小牧南"]
["愛知県立小牧工科高等学校",311,"0568-77-6275","小牧工科",null,"小牧工科"]
["愛知県立岩倉総合高等学校",312,"0587-37-4141","岩倉総合",null,"岩倉総合"]
["愛知県立新川高等学校",313,"052-400-1108","新川",null,"新川"]
["愛知県立西春高等学校",314,"0568-23-6166","西春",null,"西春"]
["愛知県立丹羽高等学校",315,"0587-93-7575","丹羽",null,"丹羽"]
["愛知県立一宮高等学校",316,"0586-72-0191","一宮",null,"一宮"]
["愛知県立一宮高等学校(定時制)",317,"0586-71-5514","一宮〔定〕",null,"一宮〔定〕"]
["愛知県立一宮西高等学校",318,"0586-68-1191","一宮西",null,"一宮西"]
["愛知県立一宮北高等学校",319,"0586-51-1171","一宮北",null,"一宮北"]
["愛知県立一宮南高等学校",320,"0586-76-1400","一宮南",null,"一宮南"]
["愛知県立一宮興道高等学校",321,"0586-46-0221","一宮興道",null,"一宮興道"]
["愛知県立木曽川高等学校",322,"0586-62-6155","木曽川",null,"木曽川"]
["愛知県立尾西高等学校",323,"0586-69-6161","尾西",null,"尾西"]
["愛知県立一宮工科高等学校",324,"0586-76-2255","一宮工科",null,"一宮工科"]
["愛知県立一宮起工科高等学校",325,"0586-61-1188","一宮起工科",null,"一宮起工科"]
["愛知県立一宮起工科高等学校(昼間定時制)",326,"0586-61-3877","一宮起工科〔昼定〕",null,"一宮起工科〔昼定〕"]
["愛知県立一宮商業高等学校",327,"0586-73-7191","一宮商業",null,"一宮商業"]
["愛知県立津島高等学校",328,"0567-28-4158","津島",null,"津島"]
["愛知県立津島高等学校(定時制)",329,"0567-28-4158","津島〔定〕",null,"津島〔定〕"]
["愛知県立津島北高等学校",330,"0567-28-3414","津島北",null,"津島北"]
["愛知県立津島東高等学校",331,"0567-24-6001","津島東",null,"津島東"]
["愛知県立稲沢東高等学校",332,"0587-21-2631","稲沢東",null,"稲沢東"]
["愛知県立稲沢緑風館高等学校",333,"0587-32-3168","稲沢緑風館",null,"稲沢緑風館"]
["愛知県立稲沢高等学校",334,"0587-32-3168","稲沢",null,"稲沢"]
["愛知県立杏和高等学校",335,"0587-97-1311","杏和",null,"杏和"]
["愛知県立佐屋高等学校",336,"0567-31-0579","佐屋",null,"佐屋"]
["愛知県立愛西工科高等学校",337,"0567-37-1288","愛西工科",null,"愛西工科"]
["愛知県立海翔高等学校",338,"0567-52-3061","海翔",null,"海翔"]
["愛知県立美和高等学校",339,"052-443-1700","美和",null,"美和"]
["愛知県立五条高等学校",340,"052-442-1515","五条",null,"五条"]
["修文学院高等学校",341,"0586-45-2102","修文学院",null,"修文学院"]
["清林館高等学校",342,"0567-28-3010","清林館",null,"清林館"]
["誠信高等学校",343,"0587-93-5380","誠信",null,"誠信"]
["大成高等学校",344,"0586-77-9900","大成",null,"大成"]
["滝高等学校",345,"0587-56-2127","滝",null,"滝"]
["愛知県立半田高等学校",401,"0569-21-0249","半田",null,"半田"]
["愛知県立半田東高等学校",402,"0569-29-1122","半田東",null,"半田東"]
["愛知県立半田工科高等学校",403,"0569-21-2164","半田工科",null,"半田工科"]
["愛知県立半田農業高等学校",404,"0569-21-0247","半田農業",null,"半田農業"]
["愛知県立半田商業高等学校",405,"0569-21-0251","半田商業",null,"半田商業"]
["愛知県立半田商業高等学校(定時制)",406,"0569-21-0251","半田商業〔定〕",null,"半田商業〔定〕"]
["愛知県立常滑高等学校",407,"0569-43-1151","常滑",null,"常滑"]
["愛知県立横須賀高等学校",408,"0562-32-1278","横須賀",null,"横須賀"]
["愛知県立横須賀高等学校(定時制)",409,"0562-32-1279","横須賀〔定〕",null,"横須賀〔定〕"]
["愛知県立東海南高等学校",410,"0562-34-3811","東海南",null,"東海南"]
["愛知県立東海樟風高等学校",411,"0562-32-5158","東海楠風",null,"東海楠風"]
["愛知県立大府高等学校",412,"0562-46-5101","大府",null,"大府"]
["愛知県立大府高等学校(定時制)",413,"0562-46-5101","大府〔定〕",null,"大府〔定〕"]
["愛知県立大府東高等学校",414,"0562-48-5811","大府東",null,"大府東"]
["愛知県立桃陵高等学校",415,"0562-46-5351","桃陵",null,"桃陵"]
["愛知県立知多翔洋高等学校",416,"0562-33-2100","知多翔洋",null,"知多翔洋"]
["愛知県立阿久比高等学校",417,"0569-48-7111","阿久比",null,"阿久比"]
["愛知県立東浦高等学校",418,"0562-83-0111","東浦",null,"東浦"]
["愛知県立内海高等学校",419,"0569-62-0139","内海",null,"内海"]
["愛知県立武豊高等学校",420,"0569-72-0706","武豊",null,"武豊"]
["日本福祉大学付属高等学校",421,"0569-87-2311","日福大付属",null,"日福大付属"]
["愛知県立豊田西高等学校",501,"0565-31-0313","豊田西",null,"豊田西"]
["愛知県立豊田西高等学校(定時制)",502,"0565-31-0313","豊田西〔定〕",null,"豊田西〔定〕"]
["愛知県立豊田東高等学校",503,"0565-80-1177","豊田東",null,"豊田東"]
["愛知県立衣台高等学校",504,"0565-33-1080","衣台",null,"衣台"]
["愛知県立豊田北高等学校",505,"0565-80-5111","豊田北",null,"豊田北"]
["愛知県立豊田南高等学校",506,"0565-53-1011","豊田南",null,"豊田南"]
["愛知県立豊田高等学校",507,"0565-45-8622","豊田",null,"豊田"]
["愛知県立豊野高等学校",508,"0565-28-8800","豊野",null,"豊野"]
["愛知県立松平高等学校",509,"0565-58-1144","松平",null,"松平"]
["愛知県立加茂丘高等学校",510,"0565-76-2241","加茂丘",null,"加茂丘"]
["愛知県立足助高等学校",511,"0565-62-1661","足助",null,"足助"]
["愛知県立豊田工科高等学校",512,"0565-52-4311","豊田工科",null,"豊田工科"]
["愛知県立豊田工科高等学校(定時制)",513,"0565-52-4322","豊田工科〔定〕",null,"豊田工科〔定〕"]
["愛知県立猿投農林高等学校",514,"0565-45-0621","猿投農林",null,"猿投農林"]
["愛知県立三好高等学校",515,"0561-34-4881","三好",null,"三好"]
["愛知県立岡崎高等学校",516,"0564-51-0202","岡崎",null,"岡崎"]
["愛知県立岡崎高等学校(定時制)",517,"0564-51-0215","岡崎〔定〕",null,"岡崎〔定〕"]
["愛知県立岡崎北高等学校",518,"0564-22-2536","岡崎北",null,"岡崎北"]
["愛知県立岡崎東高等学校",519,"0564-52-8911","岡崎東",null,"岡崎東"]
["愛知県立岡崎西高等学校",520,"0564-25-0751","岡崎西",null,"岡崎西"]
["愛知県立岩津高等学校",521,"0564-45-2005","岩津",null,"岩津"]
["愛知県立岡崎工科高等学校",522,"0564-51-1646","岡崎工科",null,"岡崎工科"]
["愛知県立岡崎工科高等学校(定時制)",523,"0564-51-1670","岡崎工科〔定〕",null,"岡崎工科〔定〕"]
["愛知県立岡崎商業高等学校",524,"0564-21-3599","岡崎商業",null,"岡崎商業"]
["愛知県立幸田高等学校",525,"0564-62-1445","幸田",null,"幸田"]
["愛知県立碧南高等学校",526,"0566-41-2564","碧南",null,"碧南"]
["愛知県立碧南高等学校(定時制)",527,"0566-41-2564","碧南〔定〕",null,"碧南〔定〕"]
["愛知県立碧南工科高等学校",528,"0566-42-2500","碧南工科",null,"碧南工科"]
["愛知県立刈谷高等学校",529,"0566-21-3171","刈谷",null,"刈谷"]
["愛知県立刈谷北高等学校",530,"0566-21-5107","刈谷北",null,"刈谷北"]
["愛知県立刈谷東高等学校(夜間定時制)",531,"0566-21-3328","刈谷東〔夜定〕",null,"刈谷東〔夜定〕"]
["愛知県立刈谷東高等学校(昼間定時制)",532,"0566-21-3327","刈谷東〔昼定〕",null,"刈谷東〔昼定〕"]
["愛知県立刈谷東高等学校(通信制)",533,"0566-21-3349","刈谷東〔通信〕",null,"刈谷東〔通信〕"]
["愛知県立刈谷工科高等学校",534,"0566-21-2227","刈谷工科",null,"刈谷工科"]
["愛知県立安城高等学校",535,"0566-76-6218","安城",null,"安城"]
["愛知県立安城高等学校(定時制)",536,"0566-76-6262","安城〔定〕",null,"安城〔定〕"]
["愛知県立安城東高等学校",537,"0566-74-1231","安城東",null,"安城東"]
["愛知県立安城南高等学校",538,"0566-99-2000","安城南",null,"安城南"]
["愛知県立安城農林高等学校",539,"0566-76-6144","安城農林",null,"安城農林"]
["愛知県立西尾高等学校",540,"0563-57-2270","西尾",null,"西尾"]
["愛知県立西尾東高等学校",541,"0563-56-1911","西尾東",null,"西尾東"]
["愛知県立鶴城丘高等学校",542,"0563-57-5165","鶴城丘",null,"鶴城丘"]
["愛知県立一色高等学校",543,"0563-72-8165","一色",null,"一色"]
["愛知県立一色高等学校(定時制)",544,"0563-72-8165","一色〔定〕",null,"一色〔定〕"]
["愛知県立吉良高等学校",545,"0563-32-2231","吉良",null,"吉良"]
["愛知県立知立東高等学校",546,"0566-82-0568","知立東",null,"知立東"]
["愛知県立知立高等学校",547,"0566-81-0319","知立",null,"知立"]
["愛知県立高浜高等学校",548,"0566-52-2100","高浜",null,"高浜"]
["愛知教育大学附属高等学校",549,"0566-36-1881","愛教大附属",null,"愛教大附属"]
["豊田工業高等専門学校",550,"0565-36-5913","豊田工専",null,"豊田工専"]
["愛知産業大学三河高等学校",551,"0564-48-5211","愛産大三河",null,"愛産大三河"]
["安城学園高等学校",552,"0566-76-5105","安城学園",null,"安城学園"]
["人間環境大学附属岡崎高等学校",553,"0564-22-0274","人環大岡崎",null,"人環大岡崎"]
["岡崎城西高等学校",554,"0564-31-4165","岡崎城西",null,"岡崎城西"]
["杜若高等学校",555,"0565-45-5000","杜若",null,"杜若"]
["光ヶ丘女子高等学校",556,"0564-51-5651","光ヶ丘女子",null,"光ヶ丘女子"]
["愛知県立時習館高等学校",601,"0532-45-3171","時習館",null,"時習館"]
["愛知県立豊橋東高等学校",602,"0532-61-3146","豊橋東",null,"豊橋東"]
["愛知県立豊丘高等学校",603,"0532-62-3281","豊丘",null,"豊丘"]
["愛知県立豊橋南高等学校",604,"0532-25-1476","豊橋南",null,"豊橋南"]
["愛知県立豊橋西高等学校",605,"0532-31-8800","豊橋西",null,"豊橋西"]
["愛知県立豊橋工科高等学校",606,"0532-45-5635","豊橋工科",null,"豊橋工科"]
["愛知県立豊橋工科高等学校(定時制)",607,"0532-45-5635","豊橋工科〔定〕",null,"豊橋工科〔定〕"]
["愛知県立豊橋商業高等学校",608,"0532-52-2256","豊橋商業",null,"豊橋商業"]
["愛知県立成章高等学校",609,"0531-22-0141","成章",null,"成章"]
["愛知県立福江高等学校",610,"0531-32-0132","福江",null,"福江"]
["愛知県立渥美農業高等学校",611,"0531-22-0406","渥美農業",null,"渥美農業"]
["愛知県立国府高等学校",612,"0533-87-3141","国府",null,"国府"]
["愛知県立御津あおば高等学校",613,"0533-75-4155","御津あおば",null,"御津あおば"]
["愛知県立御津あおば高等学校(昼間定時制)",614,"0533-75-4155","御津あおば〔昼定〕",null,"御津あおば〔昼定〕"]
["愛知県立小坂井高等学校",615,"0533-72-2211","小坂井",null,"小坂井"]
["愛知県立豊川工科高等学校",616,"0533-85-4425","豊川工科",null,"豊川工科"]
["愛知県立宝陵高等学校",617,"0533-93-2041","宝陵",null,"宝陵"]
["愛知県立蒲郡高等学校",618,"0533-68-2074","蒲郡",null,"蒲郡"]
["愛知県立蒲郡高等学校(定時制)",619,"0533-68-2074","蒲郡〔定〕",null,"蒲郡〔定〕"]
["愛知県立蒲郡東高等学校",620,"0533-59-8621","蒲郡東",null,"蒲郡東"]
["愛知県立三谷水産高等学校",621,"0533-69-2265","三谷水産",null,"三谷水産"]
["愛知県立新城有教館高等学校",622,"0536-22-1176","新城有教館",null,"新城有教館"]
["愛知県立新城有教館高等学校作手校舎",623,"0536-37-2119","新城有教館作手校舎",null,"新城有教館作手校舎"]
["愛知県立田口高等学校",624,"0536-62-0575","田口",null,"田口"]
["豊橋市立豊橋高等学校(夜間定時制)",625,"0532-62-0278","豊橋〔夜定〕",null,"豊橋〔夜定〕"]
["豊橋市立豊橋高等学校(昼間定時制)",626,"0532-62-0279","豊橋〔昼定〕",null,"豊橋〔昼定〕"]
["海陽中等教育学校",627,"0533-58-2406","海陽中等教育",null,"海陽中等教育"]
["桜丘高等学校",628,"0532-61-6421","桜丘",null,"桜丘"]
["豊川高等学校",629,"0533-86-4121","豊川",null,"豊川"]
["豊橋中央高等学校",630,"0532-54-1301","豊橋中央",null,"豊橋中央"]
["藤ノ花女子高等学校",631,"0532-61-5468","藤ノ花女子",null,"藤ノ花女子"]
["愛知県立名古屋盲学校",701,"052-711-0009","名古屋盲",null,"名古屋盲"]
["愛知県立岡崎盲学校",702,"0564-52-1282","岡崎盲",null,"岡崎盲"]
["愛知県立名古屋聾学校",703,"052-762-6846","名古屋聾",null,"名古屋聾"]
["愛知県立豊橋聾学校",704,"0532-45-2049","豊橋聾",null,"豊橋聾"]
["愛知県立岡崎聾学校",705,"0564-45-2830","岡崎聾",null,"岡崎聾"]
["愛知県立一宮聾学校",706,"0586-45-6000","一宮聾",null,"一宮聾"]
["愛知県立みあい特別支援学校",707,"0564-57-0013","みあい特支",null,"みあい特支"]
["愛知県立一宮東特別支援学校",708,"0586-51-5311","一宮東特支",null,"一宮東特支"]
["愛知県立瀬戸つばき特別支援学校",709,"0561-56-0950","瀬戸つばき特支",null,"瀬戸つばき特支"]
["愛知県立半田特別支援学校",710,"0569-27-7061","半田特支",null,"半田特支"]
["愛知県立春日台特別支援学校",711,"0568-41-8751","春日台特支",null,"春日台特支"]
["愛知県立豊川特別支援学校",712,"0533-88-2553","豊川特支",null,"豊川特支"]
["愛知県立豊川特別支援学校本宮校舎",713,"0533-93-0515","豊川特支本宮校舎",null,"豊川特支本宮校舎"]
["愛知県立安城特別支援学校",714,"0566-99-3345","安城特支",null,"安城特支"]
["愛知県立いなざわ特別支援学校",715,"0587-35-2005","いなざわ特支",null,"いなざわ特支"]
["愛知県立大府もちのき特別支援学校",716,"0562-46-3011","大府もちのき特支",null,"大府もちのき特支"]
["愛知県立大府もちのき特別支援学校桃花校舎",717,"0562-46-6909","大府もちのき特支桃花校舎",null,"大府もちのき特支桃花校舎"]
["愛知県立佐織特別支援学校",718,"0567-37-2061","佐織特支",null,"佐織特支"]
["愛知県立三好特別支援学校",719,"0561-34-4832","三好特支",null,"三好特支"]
["愛知県立春日井高等特別支援学校",720,"0568-85-3511","春日井高等特支",null,"春日井高等特支"]
["愛知県立豊田高等特別支援学校",721,"0565-54-0011","豊田高等特支",null,"豊田高等特支"]
["愛知県立名古屋特別支援学校",722,"052-502-8866","名古屋特支",null,"名古屋特支"]
["愛知県立港特別支援学校",723,"052-651-3710","港特支",null,"港特支"]
["愛知県立豊橋特別支援学校",724,"0532-61-8118","豊橋特支",null,"豊橋特支"]
["愛知県立豊橋特別支援学校山嶺教室",725,"0536-62-0722","豊橋特支山嶺教室",null,"豊橋特支山嶺教室"]
["愛知県立豊橋特別支援学校潮風教室",726,"0531-32-0134","豊橋特支潮風教室",null,"豊橋特支潮風教室"]
["愛知県立岡崎特別支援学校",727,"0564-72-5600","岡崎特支",null,"岡崎特支"]
["愛知県立一宮特別支援学校",728,"0586-51-2221","一宮特支",null,"一宮特支"]
["愛知県立ひいらぎ特別支援学校",729,"0569-26-7131","ひいらぎ特支",null,"ひいらぎ特支"]
["愛知県立小牧特別支援学校",730,"0568-73-7661","小牧特支",null,"小牧特支"]
["愛知県立にしお特別支援学校",731,"0563-65-5430","にしお特支",null,"にしお特支"]
["愛知県立大府特別支援学校",732,"0562-48-5311","大府特支",null,"大府特支"]
["豊橋市立くすのき特別支援学校",733,"0532-29-7660","くすのき特支",null,"くすのき特支"]
["瀬戸市立瀬戸特別支援学校光陵校舎",734,"0561-76-2263","瀬戸特支光陵校舎",null,"瀬戸特支光陵校舎"]
["刈谷市立刈谷特別支援学校",735,"0566-21-7301","刈谷特支",null,"刈谷特支"]
["豊田市立豊田特別支援学校",736,"0565-44-1151","豊田特支",null,"豊田特支"]
["名古屋市立西特別支援学校",737,"052-354-3881","西特支",null,"西特支"]
["名古屋市立南特別支援学校",738,"052-871-7390","南特支",null,"南特支"]
["名古屋市立天白特別支援学校",739,"052-781-5610","天白特支",null,"天白特支"]
["名古屋市立守山特別支援学校",740,"052-794-5466","守山特支",null,"守山特支"]
["名古屋市立若宮特別支援学校",741,"052-899-0538","若宮特支",null,"若宮特支"]
["愛知教育大学附属特別支援学校",742,"0564-21-7300","愛教大附属特支",null,"愛教大附属特支"]

{"sheet":"集約","index":2,"n_rows":30,"n_cols":19,"rows_kept":30,"cut":false,"hidden":true,"merged":[]}
[{"$f":"IF(記入!E23=\"\",\"\",VLOOKUP(記入!$P$17,係りリスト,2,FALSE))","v":""},{"$f":"IF(記入!E23=\"\",\"\",記入!$P$18)","v":""},{"$f":"IF(記入!E23=\"\",\"\",記入!$D$18)","v":""},{"$f":"IF(記入!E23=\"\",\"\",VLOOKUP(記入!$D$17,ID!$A$2:$F$300,4,FALSE))","v":""},{"$f":"IF(記入!E23=\"\",\"\",記入!$D$19)","v":""},{"$f":"IF(記入!E23=\"\",\"\",記入!$G$19)","v":""},{"$f":"IF(記入!D23=\"\",\"\",記入!D23)","v":""},{"$f":"IF(記入!E23=\"\",\"\",記入!E23)","v":""},{"$f":"IF(記入!F23=\"\",\"\",記入!F23)","v":""},{"$f":"IF(記入!G23=\"\",\"\",記入!G23)","v":""},{"$f":"IF(記入!H23=\"\",\"\",記入!H23)","v":""},{"$f":"IF(記入!I23=\"\",\"\",記入!I23)","v":""},{"$f":"IF(記入!J23=\"\",\"\",記入!J23)","v":""},{"$f":"IF(記入!K23=\"\",\"\",記入!K23)","v":""},{"$f":"IF(記入!L23=\"\",\"\",記入!L23)","v":""},{"$f":"IF(記入!M23=\"\",\"\",記入!M23)","v":""},{"$f":"IF(記入!N23=\"\",\"\",記入!N23)","v":""},{"$f":"IF(記入!O23=\"\",\"\",記入!O23)","v":""},{"$f":"IF(記入!P23=\"\",\"\",記入!P23)&IF(記入!D44=\"\",\"\",\"(連絡欄有)\")","v":""}]
[{"$f":"IF(記入!E24=\"\",\"\",VLOOKUP(記入!$P$17,係りリスト,2,FALSE))","v":""},{"$f":"IF(記入!E24=\"\",\"\",記入!$P$18)","v":""},{"$f":"IF(記入!E24=\"\",\"\",記入!$D$18)","v":""},{"$f":"IF(記入!E24=\"\",\"\",VLOOKUP(記入!$D$17,ID!$A$2:$F$300,4,FALSE))","v":""},{"$f":"IF(記入!E24=\"\",\"\",記入!$D$19)","v":""},{"$f":"IF(記入!E24=\"\",\"\",記入!$G$19)","v":""},{"$f":"IF(記入!D24=\"\",\"\",記入!D24)","v":""},{"$f":"IF(記入!E24=\"\",\"\",記入!E24)","v":""},{"$f":"IF(記入!F24=\"\",\"\",記入!F24)","v":""},{"$f":"IF(記入!G24=\"\",\"\",記入!G24)","v":""},{"$f":"IF(記入!H24=\"\",\"\",記入!H24)","v":""},{"$f":"IF(記入!I24=\"\",\"\",記入!I24)","v":""},{"$f":"IF(記入!J24=\"\",\"\",記入!J24)","v":""},{"$f":"IF(記入!K24=\"\",\"\",記入!K24)","v":""},{"$f":"IF(記入!L24=\"\",\"\",記入!L24)","v":""},{"$f":"IF(記入!M24=\"\",\"\",記入!M24)","v":""},{"$f":"IF(記入!N24=\"\",\"\",記入!N24)","v":""},{"$f":"IF(記入!O24=\"\",\"\",記入!O24)","v":""},{"$f":"IF(記入!P24=\"\",\"\",記入!P24)&IF(記入!D45=\"\",\"\",\"(連絡欄有)\")","v":""}]
[{"$f":"IF(記入!E25=\"\",\"\",VLOOKUP(記入!$P$17,係りリスト,2,FALSE))","v":""},{"$f":"IF(記入!E25=\"\",\"\",記入!$P$18)","v":""},{"$f":"IF(記入!E25=\"\",\"\",記入!$D$18)","v":""},{"$f":"IF(記入!E25=\"\",\"\",VLOOKUP(記入!$D$17,ID!$A$2:$F$300,4,FALSE))","v":""},{"$f":"IF(記入!E25=\"\",\"\",記入!$D$19)","v":""},{"$f":"IF(記入!E25=\"\",\"\",記入!$G$19)","v":""},{"$f":"IF(記入!D25=\"\",\"\",記入!D25)","v":""},{"$f":"IF(記入!E25=\"\",\"\",記入!E25)","v":""},{"$f":"IF(記入!F25=\"\",\"\",記入!F25)","v":""},{"$f":"IF(記入!G25=\"\",\"\",記入!G25)","v":""},{"$f":"IF(記入!H25=\"\",\"\",記入!H25)","v":""},{"$f":"IF(記入!I25=\"\",\"\",記入!I25)","v":""},{"$f":"IF(記入!J25=\"\",\"\",記入!J25)","v":""},{"$f":"IF(記入!K25=\"\",\"\",記入!K25)","v":""},{"$f":"IF(記入!L25=\"\",\"\",記入!L25)","v":""},{"$f":"IF(記入!M25=\"\",\"\",記入!M25)","v":""},{"$f":"IF(記入!N25=\"\",\"\",記入!N25)","v":""},{"$f":"IF(記入!O25=\"\",\"\",記入!O25)","v":""},{"$f":"IF(記入!P25=\"\",\"\",記入!P25)&IF(記入!D46=\"\",\"\",\"(連絡欄有)\")","v":""}]
[{"$f":"IF(記入!E26=\"\",\"\",VLOOKUP(記入!$P$17,係りリスト,2,FALSE))","v":""},{"$f":"IF(記入!E26=\"\",\"\",記入!$P$18)","v":""},{"$f":"IF(記入!E26=\"\",\"\",記入!$D$18)","v":""},{"$f":"IF(記入!E26=\"\",\"\",VLOOKUP(記入!$D$17,ID!$A$2:$F$300,4,FALSE))","v":""},{"$f":"IF(記入!E26=\"\",\"\",記入!$D$19)","v":""},{"$f":"IF(記入!E26=\"\",\"\",記入!$G$19)","v":""},{"$f":"IF(記入!D26=\"\",\"\",記入!D26)","v":""},{"$f":"IF(記入!E26=\"\",\"\",記入!E26)","v":""},{"$f":"IF(記入!F26=\"\",\"\",記入!F26)","v":""},{"$f":"IF(記入!G26=\"\",\"\",記入!G26)","v":""},{"$f":"IF(記入!H26=\"\",\"\",記入!H26)","v":""},{"$f":"IF(記入!I26=\"\",\"\",記入!I26)","v":""},{"$f":"IF(記入!J26=\"\",\"\",記入!J26)","v":""},{"$f":"IF(記入!K26=\"\",\"\",記入!K26)","v":""},{"$f":"IF(記入!L26=\"\",\"\",記入!L26)","v":""},{"$f":"IF(記入!M26=\"\",\"\",記入!M26)","v":""},{"$f":"IF(記入!N26=\"\",\"\",記入!N26)","v":""},{"$f":"IF(記入!O26=\"\",\"\",記入!O26)","v":""},{"$f":"IF(記入!P26=\"\",\"\",記入!P26)&IF(記入!D47=\"\",\"\",\"(連絡欄有)\")","v":""}]
[{"$f":"IF(記入!E27=\"\",\"\",VLOOKUP(記入!$P$17,係りリスト,2,FALSE))","v":""},{"$f":"IF(記入!E27=\"\",\"\",記入!$P$18)","v":""},{"$f":"IF(記入!E27=\"\",\"\",記入!$D$18)","v":""},{"$f":"IF(記入!E27=\"\",\"\",VLOOKUP(記入!$D$17,ID!$A$2:$F$300,4,FALSE))","v":""},{"$f":"IF(記入!E27=\"\",\"\",記入!$D$19)","v":""},{"$f":"IF(記入!E27=\"\",\"\",記入!$G$19)","v":""},{"$f":"IF(記入!D27=\"\",\"\",記入!D27)","v":""},{"$f":"IF(記入!E27=\"\",\"\",記入!E27)","v":""},{"$f":"IF(記入!F27=\"\",\"\",記入!F27)","v":""},{"$f":"IF(記入!G27=\"\",\"\",記入!G27)","v":""},{"$f":"IF(記入!H27=\"\",\"\",記入!H27)","v":""},{"$f":"IF(記入!I27=\"\",\"\",記入!I27)","v":""},{"$f":"IF(記入!J27=\"\",\"\",記入!J27)","v":""},{"$f":"IF(記入!K27=\"\",\"\",記入!K27)","v":""},{"$f":"IF(記入!L27=\"\",\"\",記入!L27)","v":""},{"$f":"IF(記入!M27=\"\",\"\",記入!M27)","v":""},{"$f":"IF(記入!N27=\"\",\"\",記入!N27)","v":""},{"$f":"IF(記入!O27=\"\",\"\",記入!O27)","v":""},{"$f":"IF(記入!P27=\"\",\"\",記入!P27)&IF(記入!D48=\"\",\"\",\"(連絡欄有)\")","v":""}]
[{"$f":"IF(記入!E28=\"\",\"\",VLOOKUP(記入!$P$17,係りリスト,2,FALSE))","v":""},{"$f":"IF(記入!E28=\"\",\"\",記入!$P$18)","v":""},{"$f":"IF(記入!E28=\"\",\"\",記入!$D$18)","v":""},{"$f":"IF(記入!E28=\"\",\"\",VLOOKUP(記入!$D$17,ID!$A$2:$F$300,4,FALSE))","v":""},{"$f":"IF(記入!E28=\"\",\"\",記入!$D$19)","v":""},{"$f":"IF(記入!E28=\"\",\"\",記入!$G$19)","v":""},{"$f":"IF(記入!D28=\"\",\"\",記入!D28)","v":""},{"$f":"IF(記入!E28=\"\",\"\",記入!E28)","v":""},{"$f":"IF(記入!F28=\"\",\"\",記入!F28)","v":""},{"$f":"IF(記入!G28=\"\",\"\",記入!G28)","v":""},{"$f":"IF(記入!H28=\"\",\"\",記入!H28)","v":""},{"$f":"IF(記入!I28=\"\",\"\",記入!I28)","v":""},{"$f":"IF(記入!J28=\"\",\"\",記入!J28)","v":""},{"$f":"IF(記入!K28=\"\",\"\",記入!K28)","v":""},{"$f":"IF(記入!L28=\"\",\"\",記入!L28)","v":""},{"$f":"IF(記入!M28=\"\",\"\",記入!M28)","v":""},{"$f":"IF(記入!N28=\"\",\"\",記入!N28)","v":""},{"$f":"IF(記入!O28=\"\",\"\",記入!O28)","v":""},{"$f":"IF(記入!P28=\"\",\"\",記入!P28)&IF(記入!D49=\"\",\"\",\"(連絡欄有)\")","v":""}]
[{"$f":"IF(記入!E29=\"\",\"\",VLOOKUP(記入!$P$17,係りリスト,2,FALSE))","v":""},{"$f":"IF(記入!E29=\"\",\"\",記入!$P$18)","v":""},{"$f":"IF(記入!E29=\"\",\"\",記入!$D$18)","v":""},{"$f":"IF(記入!E29=\"\",\"\",VLOOKUP(記入!$D$17,ID!$A$2:$F$300,4,FALSE))","v":""},{"$f":"IF(記入!E29=\"\",\"\",記入!$D$19)","v":""},{"$f":"IF(記入!E29=\"\",\"\",記入!$G$19)","v":""},{"$f":"IF(記入!D29=\"\",\"\",記入!D29)","v":""},{"$f":"IF(記入!E29=\"\",\"\",記入!E29)","v":""},{"$f":"IF(記入!F29=\"\",\"\",記入!F29)","v":""},{"$f":"IF(記入!G29=\"\",\"\",記入!G29)","v":""},{"$f":"IF(記入!H29=\"\",\"\",記入!H29)","v":""},{"$f":"IF(記入!I29=\"\",\"\",記入!I29)","v":""},{"$f":"IF(記入!J29=\"\",\"\",記入!J29)","v":""},{"$f":"IF(記入!K29=\"\",\"\",記入!K29)","v":""},{"$f":"IF(記入!L29=\"\",\"\",記入!L29)","v":""},{"$f":"IF(記入!M29=\"\",\"\",記入!M29)","v":""},{"$f":"IF(記入!N29=\"\",\"\",記入!N29)","v":""},{"$f":"IF(記入!O29=\"\",\"\",記入!O29)","v":""},{"$f":"IF(記入!P29=\"\",\"\",記入!P29)&IF(記入!D50=\"\",\"\",\"(連絡欄有)\")","v":""}]
[{"$f":"IF(記入!E30=\"\",\"\",VLOOKUP(記入!$P$17,係りリスト,2,FALSE))","v":""},{"$f":"IF(記入!E30=\"\",\"\",記入!$P$18)","v":""},{"$f":"IF(記入!E30=\"\",\"\",記入!$D$18)","v":""},{"$f":"IF(記入!E30=\"\",\"\",VLOOKUP(記入!$D$17,ID!$A$2:$F$300,4,FALSE))","v":""},{"$f":"IF(記入!E30=\"\",\"\",記入!$D$19)","v":""},{"$f":"IF(記入!E30=\"\",\"\",記入!$G$19)","v":""},{"$f":"IF(記入!D30=\"\",\"\",記入!D30)","v":""},{"$f":"IF(記入!E30=\"\",\"\",記入!E30)","v":""},{"$f":"IF(記入!F30=\"\",\"\",記入!F30)","v":""},{"$f":"IF(記入!G30=\"\",\"\",記入!G30)","v":""},{"$f":"IF(記入!H30=\"\",\"\",記入!H30)","v":""},{"$f":"IF(記入!I30=\"\",\"\",記入!I30)","v":""},{"$f":"IF(記入!J30=\"\",\"\",記入!J30)","v":""},{"$f":"IF(記入!K30=\"\",\"\",記入!K30)","v":""},{"$f":"IF(記入!L30=\"\",\"\",記入!L30)","v":""},{"$f":"IF(記入!M30=\"\",\"\",記入!M30)","v":""},{"$f":"IF(記入!N30=\"\",\"\",記入!N30)","v":""},{"$f":"IF(記入!O30=\"\",\"\",記入!O30)","v":""},{"$f":"IF(記入!P30=\"\",\"\",記入!P30)&IF(記入!D51=\"\",\"\",\"(連絡欄有)\")","v":""}]
[{"$f":"IF(記入!E31=\"\",\"\",VLOOKUP(記入!$P$17,係りリスト,2,FALSE))","v":""},{"$f":"IF(記入!E31=\"\",\"\",記入!$P$18)","v":""},{"$f":"IF(記入!E31=\"\",\"\",記入!$D$18)","v":""},{"$f":"IF(記入!E31=\"\",\"\",VLOOKUP(記入!$D$17,ID!$A$2:$F$300,4,FALSE))","v":""},{"$f":"IF(記入!E31=\"\",\"\",記入!$D$19)","v":""},{"$f":"IF(記入!E31=\"\",\"\",記入!$G$19)","v":""},{"$f":"IF(記入!D31=\"\",\"\",記入!D31)","v":""},{"$f":"IF(記入!E31=\"\",\"\",記入!E31)","v":""},{"$f":"IF(記入!F31=\"\",\"\",記入!F31)","v":""},{"$f":"IF(記入!G31=\"\",\"\",記入!G31)","v":""},{"$f":"IF(記入!H31=\"\",\"\",記入!H31)","v":""},{"$f":"IF(記入!I31=\"\",\"\",記入!I31)","v":""},{"$f":"IF(記入!J31=\"\",\"\",記入!J31)","v":""},{"$f":"IF(記入!K31=\"\",\"\",記入!K31)","v":""},{"$f":"IF(記入!L31=\"\",\"\",記入!L31)","v":""},{"$f":"IF(記入!M31=\"\",\"\",記入!M31)","v":""},{"$f":"IF(記入!N31=\"\",\"\",記入!N31)","v":""},{"$f":"IF(記入!O31=\"\",\"\",記入!O31)","v":""},{"$f":"IF(記入!P31=\"\",\"\",記入!P31)&IF(記入!D52=\"\",\"\",\"(連絡欄有)\")","v":""}]
[{"$f":"IF(記入!E32=\"\",\"\",VLOOKUP(記入!$P$17,係りリスト,2,FALSE))","v":""},{"$f":"IF(記入!E32=\"\",\"\",記入!$P$18)","v":""},{"$f":"IF(記入!E32=\"\",\"\",記入!$D$18)","v":""},{"$f":"IF(記入!E32=\"\",\"\",VLOOKUP(記入!$D$17,ID!$A$2:$F$300,4,FALSE))","v":""},{"$f":"IF(記入!E32=\"\",\"\",記入!$D$19)","v":""},{"$f":"IF(記入!E32=\"\",\"\",記入!$G$19)","v":""},{"$f":"IF(記入!D32=\"\",\"\",記入!D32)","v":""},{"$f":"IF(記入!E32=\"\",\"\",記入!E32)","v":""},{"$f":"IF(記入!F32=\"\",\"\",記入!F32)","v":""},{"$f":"IF(記入!G32=\"\",\"\",記入!G32)","v":""},{"$f":"IF(記入!H32=\"\",\"\",記入!H32)","v":""},{"$f":"IF(記入!I32=\"\",\"\",記入!I32)","v":""},{"$f":"IF(記入!J32=\"\",\"\",記入!J32)","v":""},{"$f":"IF(記入!K32=\"\",\"\",記入!K32)","v":""},{"$f":"IF(記入!L32=\"\",\"\",記入!L32)","v":""},{"$f":"IF(記入!M32=\"\",\"\",記入!M32)","v":""},{"$f":"IF(記入!N32=\"\",\"\",記入!N32)","v":""},{"$f":"IF(記入!O32=\"\",\"\",記入!O32)","v":""},{"$f":"IF(記入!P32=\"\",\"\",記入!P32)&IF(記入!D53=\"\",\"\",\"(連絡欄有)\")","v":""}]
[{"$f":"IF(記入!E33=\"\",\"\",VLOOKUP(記入!$P$17,係りリスト,2,FALSE))","v":""},{"$f":"IF(記入!E33=\"\",\"\",記入!$P$18)","v":""},{"$f":"IF(記入!E33=\"\",\"\",記入!$D$18)","v":""},{"$f":"IF(記入!E33=\"\",\"\",VLOOKUP(記入!$D$17,ID!$A$2:$F$300,4,FALSE))","v":""},{"$f":"IF(記入!E33=\"\",\"\",記入!$D$19)","v":""},{"$f":"IF(記入!E33=\"\",\"\",記入!$G$19)","v":""},{"$f":"IF(記入!D33=\"\",\"\",記入!D33)","v":""},{"$f":"IF(記入!E33=\"\",\"\",記入!E33)","v":""},{"$f":"IF(記入!F33=\"\",\"\",記入!F33)","v":""},{"$f":"IF(記入!G33=\"\",\"\",記入!G33)","v":""},{"$f":"IF(記入!H33=\"\",\"\",記入!H33)","v":""},{"$f":"IF(記入!I33=\"\",\"\",記入!I33)","v":""},{"$f":"IF(記入!J33=\"\",\"\",記入!J33)","v":""},{"$f":"IF(記入!K33=\"\",\"\",記入!K33)","v":""},{"$f":"IF(記入!L33=\"\",\"\",記入!L33)","v":""},{"$f":"IF(記入!M33=\"\",\"\",記入!M33)","v":""},{"$f":"IF(記入!N33=\"\",\"\",記入!N33)","v":""},{"$f":"IF(記入!O33=\"\",\"\",記入!O33)","v":""},{"$f":"IF(記入!P33=\"\",\"\",記入!P33)&IF(記入!D54=\"\",\"\",\"(連絡欄有)\")","v":""}]
[{"$f":"IF(記入!E34=\"\",\"\",VLOOKUP(記入!$P$17,係りリスト,2,FALSE))","v":""},{"$f":"IF(記入!E34=\"\",\"\",記入!$P$18)","v":""},{"$f":"IF(記入!E34=\"\",\"\",記入!$D$18)","v":""},{"$f":"IF(記入!E34=\"\",\"\",VLOOKUP(記入!$D$17,ID!$A$2:$F$300,4,FALSE))","v":""},{"$f":"IF(記入!E34=\"\",\"\",記入!$D$19)","v":""},{"$f":"IF(記入!E34=\"\",\"\",記入!$G$19)","v":""},{"$f":"IF(記入!D34=\"\",\"\",記入!D34)","v":""},{"$f":"IF(記入!E34=\"\",\"\",記入!E34)","v":""},{"$f":"IF(記入!F34=\"\",\"\",記入!F34)","v":""},{"$f":"IF(記入!G34=\"\",\"\",記入!G34)","v":""},{"$f":"IF(記入!H34=\"\",\"\",記入!H34)","v":""},{"$f":"IF(記入!I34=\"\",\"\",記入!I34)","v":""},{"$f":"IF(記入!J34=\"\",\"\",記入!J34)","v":""},{"$f":"IF(記入!K34=\"\",\"\",記入!K34)","v":""},{"$f":"IF(記入!L34=\"\",\"\",記入!L34)","v":""},{"$f":"IF(記入!M34=\"\",\"\",記入!M34)","v":""},{"$f":"IF(記入!N34=\"\",\"\",記入!N34)","v":""},{"$f":"IF(記入!O34=\"\",\"\",記入!O34)","v":""},{"$f":"IF(記入!P34=\"\",\"\",記入!P34)&IF(記入!D55=\"\",\"\",\"(連絡欄有)\")","v":""}]
[{"$f":"IF(記入!E35=\"\",\"\",VLOOKUP(記入!$P$17,係りリスト,2,FALSE))","v":""},{"$f":"IF(記入!E35=\"\",\"\",記入!$P$18)","v":""},{"$f":"IF(記入!E35=\"\",\"\",記入!$D$18)","v":""},{"$f":"IF(記入!E35=\"\",\"\",VLOOKUP(記入!$D$17,ID!$A$2:$F$300,4,FALSE))","v":""},{"$f":"IF(記入!E35=\"\",\"\",記入!$D$19)","v":""},{"$f":"IF(記入!E35=\"\",\"\",記入!$G$19)","v":""},{"$f":"IF(記入!D35=\"\",\"\",記入!D35)","v":""},{"$f":"IF(記入!E35=\"\",\"\",記入!E35)","v":""},{"$f":"IF(記入!F35=\"\",\"\",記入!F35)","v":""},{"$f":"IF(記入!G35=\"\",\"\",記入!G35)","v":""},{"$f":"IF(記入!H35=\"\",\"\",記入!H35)","v":""},{"$f":"IF(記入!I35=\"\",\"\",記入!I35)","v":""},{"$f":"IF(記入!J35=\"\",\"\",記入!J35)","v":""},{"$f":"IF(記入!K35=\"\",\"\",記入!K35)","v":""},{"$f":"IF(記入!L35=\"\",\"\",記入!L35)","v":""},{"$f":"IF(記入!M35=\"\",\"\",記入!M35)","v":""},{"$f":"IF(記入!N35=\"\",\"\",記入!N35)","v":""},{"$f":"IF(記入!O35=\"\",\"\",記入!O35)","v":""},{"$f":"IF(記入!P35=\"\",\"\",記入!P35)&IF(記入!D56=\"\",\"\",\"(連絡欄有)\")","v":""}]
[{"$f":"IF(記入!E36=\"\",\"\",VLOOKUP(記入!$P$17,係りリスト,2,FALSE))","v":""},{"$f":"IF(記入!E36=\"\",\"\",記入!$P$18)","v":""},{"$f":"IF(記入!E36=\"\",\"\",記入!$D$18)","v":""},{"$f":"IF(記入!E36=\"\",\"\",VLOOKUP(記入!$D$17,ID!$A$2:$F$300,4,FALSE))","v":""},{"$f":"IF(記入!E36=\"\",\"\",記入!$D$19)","v":""},{"$f":"IF(記入!E36=\"\",\"\",記入!$G$19)","v":""},{"$f":"IF(記入!D36=\"\",\"\",記入!D36)","v":""},{"$f":"IF(記入!E36=\"\",\"\",記入!E36)","v":""},{"$f":"IF(記入!F36=\"\",\"\",記入!F36)","v":""},{"$f":"IF(記入!G36=\"\",\"\",記入!G36)","v":""},{"$f":"IF(記入!H36=\"\",\"\",記入!H36)","v":""},{"$f":"IF(記入!I36=\"\",\"\",記入!I36)","v":""},{"$f":"IF(記入!J36=\"\",\"\",記入!J36)","v":""},{"$f":"IF(記入!K36=\"\",\"\",記入!K36)","v":""},{"$f":"IF(記入!L36=\"\",\"\",記入!L36)","v":""},{"$f":"IF(記入!M36=\"\",\"\",記入!M36)","v":""},{"$f":"IF(記入!N36=\"\",\"\",記入!N36)","v":""},{"$f":"IF(記入!O36=\"\",\"\",記入!O36)","v":""},{"$f":"IF(記入!P36=\"\",\"\",記入!P36)&IF(記入!D57=\"\",\"\",\"(連絡欄有)\")","v":""}]
[{"$f":"IF(記入!E37=\"\",\"\",VLOOKUP(記入!$P$17,係りリスト,2,FALSE))","v":""},{"$f":"IF(記入!E37=\"\",\"\",記入!$P$18)","v":""},{"$f":"IF(記入!E37=\"\",\"\",記入!$D$18)","v":""},{"$f":"IF(記入!E37=\"\",\"\",VLOOKUP(記入!$D$17,ID!$A$2:$F$300,4,FALSE))","v":""},{"$f":"IF(記入!E37=\"\",\"\",記入!$D$19)","v":""},{"$f":"IF(記入!E37=\"\",\"\",記入!$G$19)","v":""},{"$f":"IF(記入!D37=\"\",\"\",記入!D37)","v":""},{"$f":"IF(記入!E37=\"\",\"\",記入!E37)","v":""},{"$f":"IF(記入!F37=\"\",\"\",記入!F37)","v":""},{"$f":"IF(記入!G37=\"\",\"\",記入!G37)","v":""},{"$f":"IF(記入!H37=\"\",\"\",記入!H37)","v":""},{"$f":"IF(記入!I37=\"\",\"\",記入!I37)","v":""},{"$f":"IF(記入!J37=\"\",\"\",記入!J37)","v":""},{"$f":"IF(記入!K37=\"\",\"\",記入!K37)","v":""},{"$f":"IF(記入!L37=\"\",\"\",記入!L37)","v":""},{"$f":"IF(記入!M37=\"\",\"\",記入!M37)","v":""},{"$f":"IF(記入!N37=\"\",\"\",記入!N37)","v":""},{"$f":"IF(記入!O37=\"\",\"\",記入!O37)","v":""},{"$f":"IF(記入!P37=\"\",\"\",記入!P37)&IF(記入!D58=\"\",\"\",\"(連絡欄有)\")","v":""}]
[{"$f":"IF(記入!E38=\"\",\"\",VLOOKUP(記入!$P$17,係りリスト,2,FALSE))","v":""},{"$f":"IF(記入!E38=\"\",\"\",記入!$P$18)","v":""},{"$f":"IF(記入!E38=\"\",\"\",記入!$D$18)","v":""},{"$f":"IF(記入!E38=\"\",\"\",VLOOKUP(記入!$D$17,ID!$A$2:$F$300,4,FALSE))","v":""},{"$f":"IF(記入!E38=\"\",\"\",記入!$D$19)","v":""},{"$f":"IF(記入!E38=\"\",\"\",記入!$G$19)","v":""},{"$f":"IF(記入!D38=\"\",\"\",記入!D38)","v":""},{"$f":"IF(記入!E38=\"\",\"\",記入!E38)","v":""},{"$f":"IF(記入!F38=\"\",\"\",記入!F38)","v":""},{"$f":"IF(記入!G38=\"\",\"\",記入!G38)","v":""},{"$f":"IF(記入!H38=\"\",\"\",記入!H38)","v":""},{"$f":"IF(記入!I38=\"\",\"\",記入!I38)","v":""},{"$f":"IF(記入!J38=\"\",\"\",記入!J38)","v":""},{"$f":"IF(記入!K38=\"\",\"\",記入!K38)","v":""},{"$f":"IF(記入!L38=\"\",\"\",記入!L38)","v":""},{"$f":"IF(記入!M38=\"\",\"\",記入!M38)","v":""},{"$f":"IF(記入!N38=\"\",\"\",記入!N38)","v":""},{"$f":"IF(記入!O38=\"\",\"\",記入!O38)","v":""},{"$f":"IF(記入!P38=\"\",\"\",記入!P38)&IF(記入!D59=\"\",\"\",\"(連絡欄有)\")","v":""}]
[{"$f":"IF(記入!E39=\"\",\"\",VLOOKUP(記入!$P$17,係りリスト,2,FALSE))","v":""},{"$f":"IF(記入!E39=\"\",\"\",記入!$P$18)","v":""},{"$f":"IF(記入!E39=\"\",\"\",記入!$D$18)","v":""},{"$f":"IF(記入!E39=\"\",\"\",VLOOKUP(記入!$D$17,ID!$A$2:$F$300,4,FALSE))","v":""},{"$f":"IF(記入!E39=\"\",\"\",記入!$D$19)","v":""},{"$f":"IF(記入!E39=\"\",\"\",記入!$G$19)","v":""},{"$f":"IF(記入!D39=\"\",\"\",記入!D39)","v":""},{"$f":"IF(記入!E39=\"\",\"\",記入!E39)","v":""},{"$f":"IF(記入!F39=\"\",\"\",記入!F39)","v":""},{"$f":"IF(記入!G39=\"\",\"\",記入!G39)","v":""},{"$f":"IF(記入!H39=\"\",\"\",記入!H39)","v":""},{"$f":"IF(記入!I39=\"\",\"\",記入!I39)","v":""},{"$f":"IF(記入!J39=\"\",\"\",記入!J39)","v":""},{"$f":"IF(記入!K39=\"\",\"\",記入!K39)","v":""},{"$f":"IF(記入!L39=\"\",\"\",記入!L39)","v":""},{"$f":"IF(記入!M39=\"\",\"\",記入!M39)","v":""},{"$f":"IF(記入!N39=\"\",\"\",記入!N39)","v":""},{"$f":"IF(記入!O39=\"\",\"\",記入!O39)","v":""},{"$f":"IF(記入!P39=\"\",\"\",記入!P39)&IF(記入!D60=\"\",\"\",\"(連絡欄有)\")","v":""}]
[{"$f":"IF(記入!E40=\"\",\"\",VLOOKUP(記入!$P$17,係りリスト,2,FALSE))","v":""},{"$f":"IF(記入!E40=\"\",\"\",記入!$P$18)","v":""},{"$f":"IF(記入!E40=\"\",\"\",記入!$D$18)","v":""},{"$f":"IF(記入!E40=\"\",\"\",VLOOKUP(記入!$D$17,ID!$A$2:$F$300,4,FALSE))","v":""},{"$f":"IF(記入!E40=\"\",\"\",記入!$D$19)","v":""},{"$f":"IF(記入!E40=\"\",\"\",記入!$G$19)","v":""},{"$f":"IF(記入!D40=\"\",\"\",記入!D40)","v":""},{"$f":"IF(記入!E40=\"\",\"\",記入!E40)","v":""},{"$f":"IF(記入!F40=\"\",\"\",記入!F40)","v":""},{"$f":"IF(記入!G40=\"\",\"\",記入!G40)","v":""},{"$f":"IF(記入!H40=\"\",\"\",記入!H40)","v":""},{"$f":"IF(記入!I40=\"\",\"\",記入!I40)","v":""},{"$f":"IF(記入!J40=\"\",\"\",記入!J40)","v":""},{"$f":"IF(記入!K40=\"\",\"\",記入!K40)","v":""},{"$f":"IF(記入!L40=\"\",\"\",記入!L40)","v":""},{"$f":"IF(記入!M40=\"\",\"\",記入!M40)","v":""},{"$f":"IF(記入!N40=\"\",\"\",記入!N40)","v":""},{"$f":"IF(記入!O40=\"\",\"\",記入!O40)","v":""},{"$f":"IF(記入!P40=\"\",\"\",記入!P40)&IF(記入!D61=\"\",\"\",\"(連絡欄有)\")","v":""}]
[{"$f":"IF(記入!E41=\"\",\"\",VLOOKUP(記入!$P$17,係りリスト,2,FALSE))","v":""},{"$f":"IF(記入!E41=\"\",\"\",記入!$P$18)","v":""},{"$f":"IF(記入!E41=\"\",\"\",記入!$D$18)","v":""},{"$f":"IF(記入!E41=\"\",\"\",VLOOKUP(記入!$D$17,ID!$A$2:$F$300,4,FALSE))","v":""},{"$f":"IF(記入!E41=\"\",\"\",記入!$D$19)","v":""},{"$f":"IF(記入!E41=\"\",\"\",記入!$G$19)","v":""},{"$f":"IF(記入!D41=\"\",\"\",記入!D41)","v":""},{"$f":"IF(記入!E41=\"\",\"\",記入!E41)","v":""},{"$f":"IF(記入!F41=\"\",\"\",記入!F41)","v":""},{"$f":"IF(記入!G41=\"\",\"\",記入!G41)","v":""},{"$f":"IF(記入!H41=\"\",\"\",記入!H41)","v":""},{"$f":"IF(記入!I41=\"\",\"\",記入!I41)","v":""},{"$f":"IF(記入!J41=\"\",\"\",記入!J41)","v":""},{"$f":"IF(記入!K41=\"\",\"\",記入!K41)","v":""},{"$f":"IF(記入!L41=\"\",\"\",記入!L41)","v":""},{"$f":"IF(記入!M41=\"\",\"\",記入!M41)","v":""},{"$f":"IF(記入!N41=\"\",\"\",記入!N41)","v":""},{"$f":"IF(記入!O41=\"\",\"\",記入!O41)","v":""},{"$f":"IF(記入!P41=\"\",\"\",記入!P41)&IF(記入!D62=\"\",\"\",\"(連絡欄有)\")","v":""}]
[{"$f":"IF(記入!E42=\"\",\"\",VLOOKUP(記入!$P$17,係りリスト,2,FALSE))","v":""},{"$f":"IF(記入!E42=\"\",\"\",記入!$P$18)","v":""},{"$f":"IF(記入!E42=\"\",\"\",記入!$D$18)","v":""},{"$f":"IF(記入!E42=\"\",\"\",VLOOKUP(記入!$D$17,ID!$A$2:$F$300,4,FALSE))","v":""},{"$f":"IF(記入!E42=\"\",\"\",記入!$D$19)","v":""},{"$f":"IF(記入!E42=\"\",\"\",記入!$G$19)","v":""},{"$f":"IF(記入!D42=\"\",\"\",記入!D42)","v":""},{"$f":"IF(記入!E42=\"\",\"\",記入!E42)","v":""},{"$f":"IF(記入!F42=\"\",\"\",記入!F42)","v":""},{"$f":"IF(記入!G42=\"\",\"\",記入!G42)","v":""},{"$f":"IF(記入!H42=\"\",\"\",記入!H42)","v":""},{"$f":"IF(記入!I42=\"\",\"\",記入!I42)","v":""},{"$f":"IF(記入!J42=\"\",\"\",記入!J42)","v":""},{"$f":"IF(記入!K42=\"\",\"\",記入!K42)","v":""},{"$f":"IF(記入!L42=\"\",\"\",記入!L42)","v":""},{"$f":"IF(記入!M42=\"\",\"\",記入!M42)","v":""},{"$f":"IF(記入!N42=\"\",\"\",記入!N42)","v":""},{"$f":"IF(記入!O42=\"\",\"\",記入!O42)","v":""},{"$f":"IF(記入!P42=\"\",\"\",記入!P42)&IF(記入!D63=\"\",\"\",\"(連絡欄有)\")","v":""}]
[{"$f":"IF(記入!E43=\"\",\"\",VLOOKUP(記入!$P$17,係りリスト,2,FALSE))","v":""},{"$f":"IF(記入!E43=\"\",\"\",記入!$P$18)","v":""},{"$f":"IF(記入!E43=\"\",\"\",記入!$D$18)","v":""},{"$f":"IF(記入!E43=\"\",\"\",VLOOKUP(記入!$D$17,ID!$A$2:$F$300,4,FALSE))","v":""},{"$f":"IF(記入!E43=\"\",\"\",記入!$D$19)","v":""},{"$f":"IF(記入!E43=\"\",\"\",記入!$G$19)","v":""},{"$f":"IF(記入!D43=\"\",\"\",記入!D43)","v":""},{"$f":"IF(記入!E43=\"\",\"\",記入!E43)","v":""},{"$f":"IF(記入!F43=\"\",\"\",記入!F43)","v":""},{"$f":"IF(記入!G43=\"\",\"\",記入!G43)","v":""},{"$f":"IF(記入!H43=\"\",\"\",記入!H43)","v":""},{"$f":"IF(記入!I43=\"\",\"\",記入!I43)","v":""},{"$f":"IF(記入!J43=\"\",\"\",記入!J43)","v":""},{"$f":"IF(記入!K43=\"\",\"\",記入!K43)","v":""},{"$f":"IF(記入!L43=\"\",\"\",記入!L43)","v":""},{"$f":"IF(記入!M43=\"\",\"\",記入!M43)","v":""},{"$f":"IF(記入!N43=\"\",\"\",記入!N43)","v":""},{"$f":"IF(記入!O43=\"\",\"\",記入!O43)","v":""},{"$f":"IF(記入!P43=\"\",\"\",記入!P43)&IF(記入!D64=\"\",\"\",\"(連絡欄有)\")","v":""}]
[{"$f":"IF(記入!E44=\"\",\"\",VLOOKUP(記入!$P$17,係りリスト,2,FALSE))","v":""},{"$f":"IF(記入!E44=\"\",\"\",記入!$P$18)","v":""},{"$f":"IF(記入!E44=\"\",\"\",記入!$D$18)","v":""},{"$f":"IF(記入!E44=\"\",\"\",VLOOKUP(記入!$D$17,ID!$A$2:$F$300,4,FALSE))","v":""},{"$f":"IF(記入!E44=\"\",\"\",記入!$D$19)","v":""},{"$f":"IF(記入!E44=\"\",\"\",記入!$G$19)","v":""},{"$f":"IF(記入!D44=\"\",\"\",記入!D44)","v":""},{"$f":"IF(記入!E44=\"\",\"\",記入!E44)","v":""},{"$f":"IF(記入!F44=\"\",\"\",記入!F44)","v":""},{"$f":"IF(記入!G44=\"\",\"\",記入!G44)","v":""},{"$f":"IF(記入!H44=\"\",\"\",記入!H44)","v":""},{"$f":"IF(記入!I44=\"\",\"\",記入!I44)","v":""},{"$f":"IF(記入!J44=\"\",\"\",記入!J44)","v":""},{"$f":"IF(記入!K44=\"\",\"\",記入!K44)","v":""},{"$f":"IF(記入!L44=\"\",\"\",記入!L44)","v":""},{"$f":"IF(記入!M44=\"\",\"\",記入!M44)","v":""},{"$f":"IF(記入!N44=\"\",\"\",記入!N44)","v":""},{"$f":"IF(記入!O44=\"\",\"\",記入!O44)","v":""},{"$f":"IF(記入!P44=\"\",\"\",記入!P44)&IF(記入!D65=\"\",\"\",\"(連絡欄有)\")","v":""}]
[{"$f":"IF(記入!E45=\"\",\"\",VLOOKUP(記入!$P$17,係りリスト,2,FALSE))","v":""},{"$f":"IF(記入!E45=\"\",\"\",記入!$P$18)","v":""},{"$f":"IF(記入!E45=\"\",\"\",記入!$D$18)","v":""},{"$f":"IF(記入!E45=\"\",\"\",VLOOKUP(記入!$D$17,ID!$A$2:$F$300,4,FALSE))","v":""},{"$f":"IF(記入!E45=\"\",\"\",記入!$D$19)","v":""},{"$f":"IF(記入!E45=\"\",\"\",記入!$G$19)","v":""},{"$f":"IF(記入!D45=\"\",\"\",記入!D45)","v":""},{"$f":"IF(記入!E45=\"\",\"\",記入!E45)","v":""},{"$f":"IF(記入!F45=\"\",\"\",記入!F45)","v":""},{"$f":"IF(記入!G45=\"\",\"\",記入!G45)","v":""},{"$f":"IF(記入!H45=\"\",\"\",記入!H45)","v":""},{"$f":"IF(記入!I45=\"\",\"\",記入!I45)","v":""},{"$f":"IF(記入!J45=\"\",\"\",記入!J45)","v":""},{"$f":"IF(記入!K45=\"\",\"\",記入!K45)","v":""},{"$f":"IF(記入!L45=\"\",\"\",記入!L45)","v":""},{"$f":"IF(記入!M45=\"\",\"\",記入!M45)","v":""},{"$f":"IF(記入!N45=\"\",\"\",記入!N45)","v":""},{"$f":"IF(記入!O45=\"\",\"\",記入!O45)","v":""},{"$f":"IF(記入!P45=\"\",\"\",記入!P45)&IF(記入!D66=\"\",\"\",\"(連絡欄有)\")","v":""}]
[{"$f":"IF(記入!E46=\"\",\"\",VLOOKUP(記入!$P$17,係りリスト,2,FALSE))","v":""},{"$f":"IF(記入!E46=\"\",\"\",記入!$P$18)","v":""},{"$f":"IF(記入!E46=\"\",\"\",記入!$D$18)","v":""},{"$f":"IF(記入!E46=\"\",\"\",VLOOKUP(記入!$D$17,ID!$A$2:$F$300,4,FALSE))","v":""},{"$f":"IF(記入!E46=\"\",\"\",記入!$D$19)","v":""},{"$f":"IF(記入!E46=\"\",\"\",記入!$G$19)","v":""},{"$f":"IF(記入!D46=\"\",\"\",記入!D46)","v":""},{"$f":"IF(記入!E46=\"\",\"\",記入!E46)","v":""},{"$f":"IF(記入!F46=\"\",\"\",記入!F46)","v":""},{"$f":"IF(記入!G46=\"\",\"\",記入!G46)","v":""},{"$f":"IF(記入!H46=\"\",\"\",記入!H46)","v":""},{"$f":"IF(記入!I46=\"\",\"\",記入!I46)","v":""},{"$f":"IF(記入!J46=\"\",\"\",記入!J46)","v":""},{"$f":"IF(記入!K46=\"\",\"\",記入!K46)","v":""},{"$f":"IF(記入!L46=\"\",\"\",記入!L46)","v":""},{"$f":"IF(記入!M46=\"\",\"\",記入!M46)","v":""},{"$f":"IF(記入!N46=\"\",\"\",記入!N46)","v":""},{"$f":"IF(記入!O46=\"\",\"\",記入!O46)","v":""},{"$f":"IF(記入!P46=\"\",\"\",記入!P46)&IF(記入!D67=\"\",\"\",\"(連絡欄有)\")","v":""}]
[{"$f":"IF(記入!E47=\"\",\"\",VLOOKUP(記入!$P$17,係りリスト,2,FALSE))","v":""},{"$f":"IF(記入!E47=\"\",\"\",記入!$P$18)","v":""},{"$f":"IF(記入!E47=\"\",\"\",記入!$D$18)","v":""},{"$f":"IF(記入!E47=\"\",\"\",VLOOKUP(記入!$D$17,ID!$A$2:$F$300,4,FALSE))","v":""},{"$f":"IF(記入!E47=\"\",\"\",記入!$D$19)","v":""},{"$f":"IF(記入!E47=\"\",\"\",記入!$G$19)","v":""},{"$f":"IF(記入!D47=\"\",\"\",記入!D47)","v":""},{"$f":"IF(記入!E47=\"\",\"\",記入!E47)","v":""},{"$f":"IF(記入!F47=\"\",\"\",記入!F47)","v":""},{"$f":"IF(記入!G47=\"\",\"\",記入!G47)","v":""},{"$f":"IF(記入!H47=\"\",\"\",記入!H47)","v":""},{"$f":"IF(記入!I47=\"\",\"\",記入!I47)","v":""},{"$f":"IF(記入!J47=\"\",\"\",記入!J47)","v":""},{"$f":"IF(記入!K47=\"\",\"\",記入!K47)","v":""},{"$f":"IF(記入!L47=\"\",\"\",記入!L47)","v":""},{"$f":"IF(記入!M47=\"\",\"\",記入!M47)","v":""},{"$f":"IF(記入!N47=\"\",\"\",記入!N47)","v":""},{"$f":"IF(記入!O47=\"\",\"\",記入!O47)","v":""},{"$f":"IF(記入!P47=\"\",\"\",記入!P47)&IF(記入!D68=\"\",\"\",\"(連絡欄有)\")","v":""}]
[{"$f":"IF(記入!E48=\"\",\"\",VLOOKUP(記入!$P$17,係りリスト,2,FALSE))","v":""},{"$f":"IF(記入!E48=\"\",\"\",記入!$P$18)","v":""},{"$f":"IF(記入!E48=\"\",\"\",記入!$D$18)","v":""},{"$f":"IF(記入!E48=\"\",\"\",VLOOKUP(記入!$D$17,ID!$A$2:$F$300,4,FALSE))","v":""},{"$f":"IF(記入!E48=\"\",\"\",記入!$D$19)","v":""},{"$f":"IF(記入!E48=\"\",\"\",記入!$G$19)","v":""},{"$f":"IF(記入!D48=\"\",\"\",記入!D48)","v":""},{"$f":"IF(記入!E48=\"\",\"\",記入!E48)","v":""},{"$f":"IF(記入!F48=\"\",\"\",記入!F48)","v":""},{"$f":"IF(記入!G48=\"\",\"\",記入!G48)","v":""},{"$f":"IF(記入!H48=\"\",\"\",記入!H48)","v":""},{"$f":"IF(記入!I48=\"\",\"\",記入!I48)","v":""},{"$f":"IF(記入!J48=\"\",\"\",記入!J48)","v":""},{"$f":"IF(記入!K48=\"\",\"\",記入!K48)","v":""},{"$f":"IF(記入!L48=\"\",\"\",記入!L48)","v":""},{"$f":"IF(記入!M48=\"\",\"\",記入!M48)","v":""},{"$f":"IF(記入!N48=\"\",\"\",記入!N48)","v":""},{"$f":"IF(記入!O48=\"\",\"\",記入!O48)","v":""},{"$f":"IF(記入!P48=\"\",\"\",記入!P48)&IF(記入!D69=\"\",\"\",\"(連絡欄有)\")","v":""}]
[{"$f":"IF(記入!E49=\"\",\"\",VLOOKUP(記入!$P$17,係りリスト,2,FALSE))","v":""},{"$f":"IF(記入!E49=\"\",\"\",記入!$P$18)","v":""},{"$f":"IF(記入!E49=\"\",\"\",記入!$D$18)","v":""},{"$f":"IF(記入!E49=\"\",\"\",VLOOKUP(記入!$D$17,ID!$A$2:$F$300,4,FALSE))","v":""},{"$f":"IF(記入!E49=\"\",\"\",記入!$D$19)","v":""},{"$f":"IF(記入!E49=\"\",\"\",記入!$G$19)","v":""},{"$f":"IF(記入!D49=\"\",\"\",記入!D49)","v":""},{"$f":"IF(記入!E49=\"\",\"\",記入!E49)","v":""},{"$f":"IF(記入!F49=\"\",\"\",記入!F49)","v":""},{"$f":"IF(記入!G49=\"\",\"\",記入!G49)","v":""},{"$f":"IF(記入!H49=\"\",\"\",記入!H49)","v":""},{"$f":"IF(記入!I49=\"\",\"\",記入!I49)","v":""},{"$f":"IF(記入!J49=\"\",\"\",記入!J49)","v":""},{"$f":"IF(記入!K49=\"\",\"\",記入!K49)","v":""},{"$f":"IF(記入!L49=\"\",\"\",記入!L49)","v":""},{"$f":"IF(記入!M49=\"\",\"\",記入!M49)","v":""},{"$f":"IF(記入!N49=\"\",\"\",記入!N49)","v":""},{"$f":"IF(記入!O49=\"\",\"\",記入!O49)","v":""},{"$f":"IF(記入!P49=\"\",\"\",記入!P49)&IF(記入!D70=\"\",\"\",\"(連絡欄有)\")","v":""}]
[{"$f":"IF(記入!E50=\"\",\"\",VLOOKUP(記入!$P$17,係りリスト,2,FALSE))","v":""},{"$f":"IF(記入!E50=\"\",\"\",記入!$P$18)","v":""},{"$f":"IF(記入!E50=\"\",\"\",記入!$D$18)","v":""},{"$f":"IF(記入!E50=\"\",\"\",VLOOKUP(記入!$D$17,ID!$A$2:$F$300,4,FALSE))","v":""},{"$f":"IF(記入!E50=\"\",\"\",記入!$D$19)","v":""},{"$f":"IF(記入!E50=\"\",\"\",記入!$G$19)","v":""},{"$f":"IF(記入!D50=\"\",\"\",記入!D50)","v":""},{"$f":"IF(記入!E50=\"\",\"\",記入!E50)","v":""},{"$f":"IF(記入!F50=\"\",\"\",記入!F50)","v":""},{"$f":"IF(記入!G50=\"\",\"\",記入!G50)","v":""},{"$f":"IF(記入!H50=\"\",\"\",記入!H50)","v":""},{"$f":"IF(記入!I50=\"\",\"\",記入!I50)","v":""},{"$f":"IF(記入!J50=\"\",\"\",記入!J50)","v":""},{"$f":"IF(記入!K50=\"\",\"\",記入!K50)","v":""},{"$f":"IF(記入!L50=\"\",\"\",記入!L50)","v":""},{"$f":"IF(記入!M50=\"\",\"\",記入!M50)","v":""},{"$f":"IF(記入!N50=\"\",\"\",記入!N50)","v":""},{"$f":"IF(記入!O50=\"\",\"\",記入!O50)","v":""},{"$f":"IF(記入!P50=\"\",\"\",記入!P50)&IF(記入!D71=\"\",\"\",\"(連絡欄有)\")","v":""}]
[{"$f":"IF(記入!E51=\"\",\"\",VLOOKUP(記入!$P$17,係りリスト,2,FALSE))","v":""},{"$f":"IF(記入!E51=\"\",\"\",記入!$P$18)","v":""},{"$f":"IF(記入!E51=\"\",\"\",記入!$D$18)","v":""},{"$f":"IF(記入!E51=\"\",\"\",VLOOKUP(記入!$D$17,ID!$A$2:$F$300,4,FALSE))","v":""},{"$f":"IF(記入!E51=\"\",\"\",記入!$D$19)","v":""},{"$f":"IF(記入!E51=\"\",\"\",記入!$G$19)","v":""},{"$f":"IF(記入!D51=\"\",\"\",記入!D51)","v":""},{"$f":"IF(記入!E51=\"\",\"\",記入!E51)","v":""},{"$f":"IF(記入!F51=\"\",\"\",記入!F51)","v":""},{"$f":"IF(記入!G51=\"\",\"\",記入!G51)","v":""},{"$f":"IF(記入!H51=\"\",\"\",記入!H51)","v":""},{"$f":"IF(記入!I51=\"\",\"\",記入!I51)","v":""},{"$f":"IF(記入!J51=\"\",\"\",記入!J51)","v":""},{"$f":"IF(記入!K51=\"\",\"\",記入!K51)","v":""},{"$f":"IF(記入!L51=\"\",\"\",記入!L51)","v":""},{"$f":"IF(記入!M51=\"\",\"\",記入!M51)","v":""},{"$f":"IF(記入!N51=\"\",\"\",記入!N51)","v":""},{"$f":"IF(記入!O51=\"\",\"\",記入!O51)","v":""},{"$f":"IF(記入!P51=\"\",\"\",記入!P51)&IF(記入!D72=\"\",\"\",\"(連絡欄有)\")","v":""}]
[{"$f":"IF(記入!E52=\"\",\"\",VLOOKUP(記入!$P$17,係りリスト,2,FALSE))","v":""},{"$f":"IF(記入!E52=\"\",\"\",記入!$P$18)","v":""},{"$f":"IF(記入!E52=\"\",\"\",記入!$D$18)","v":""},{"$f":"IF(記入!E52=\"\",\"\",VLOOKUP(記入!$D$17,ID!$A$2:$F$300,4,FALSE))","v":""},{"$f":"IF(記入!E52=\"\",\"\",記入!$D$19)","v":""},{"$f":"IF(記入!E52=\"\",\"\",記入!$G$19)","v":""},{"$f":"IF(記入!D52=\"\",\"\",記入!D52)","v":""},{"$f":"IF(記入!E52=\"\",\"\",記入!E52)","v":""},{"$f":"IF(記入!F52=\"\",\"\",記入!F52)","v":""},{"$f":"IF(記入!G52=\"\",\"\",記入!G52)","v":""},{"$f":"IF(記入!H52=\"\",\"\",記入!H52)","v":""},{"$f":"IF(記入!I52=\"\",\"\",記入!I52)","v":""},{"$f":"IF(記入!J52=\"\",\"\",記入!J52)","v":""},{"$f":"IF(記入!K52=\"\",\"\",記入!K52)","v":""},{"$f":"IF(記入!L52=\"\",\"\",記入!L52)","v":""},{"$f":"IF(記入!M52=\"\",\"\",記入!M52)","v":""},{"$f":"IF(記入!N52=\"\",\"\",記入!N52)","v":""},{"$f":"IF(記入!O52=\"\",\"\",記入!O52)","v":""},{"$f":"IF(記入!P52=\"\",\"\",記入!P52)&IF(記入!D73=\"\",\"\",\"(連絡欄有)\")","v":""}]